BEGIN:VCALENDAR
VERSION:2.0
PRODID:-//Sonoran Desert Chorale - ECPv6.15.20//NONSGML v1.0//EN
CALSCALE:GREGORIAN
METHOD:PUBLISH
X-WR-CALNAME:Sonoran Desert Chorale
X-ORIGINAL-URL:https://sonorandesertchorale.org
X-WR-CALDESC:Events for Sonoran Desert Chorale
REFRESH-INTERVAL;VALUE=DURATION:PT1H
X-Robots-Tag:noindex
X-PUBLISHED-TTL:PT1H
BEGIN:VTIMEZONE
TZID:America/Phoenix
BEGIN:STANDARD
TZOFFSETFROM:-0700
TZOFFSETTO:-0700
TZNAME:MST
DTSTART:20240101T000000
END:STANDARD
END:VTIMEZONE
BEGIN:VEVENT
DTSTART;TZID=America/Phoenix:20251213T193000
DTEND;TZID=America/Phoenix:20251213T210000
DTSTAMP:20260421T183109
CREATED:20250831T144435Z
LAST-MODIFIED:20260303T020905Z
UID:3760-1765654200-1765659600@sonorandesertchorale.org
SUMMARY:Candlelight Christmas
DESCRIPTION:Join the Chorale for a heartwarming evening of holiday magic! Experience the beauty of timeless Christmas classics performed with the warmth of candlelight. Featuring the angelic sounds of John Rutter’s Candlelight Carol\, Angel’s Carol\, and Christmas Lullaby\, this concert will fill your heart and soul with joy. Bring your loved ones and create unforgettable memories this holiday season!
URL:https://sonorandesertchorale.org/event/candlelight-christmas/
LOCATION:First United Methodist Church of Mesa\, 15 E 1st Ave\, Mesa\, AZ\, 85210\, United States
CATEGORIES:Members
ATTACH;FMTTYPE=image/jpeg:https://sonorandesertchorale.org/wp-content/uploads/2025/09/Candlelight-scaled.jpg
ORGANIZER;CN="Sonoran Desert Chorale":MAILTO:ticketsSDC@gmail.com
END:VEVENT
BEGIN:VEVENT
DTSTART;TZID=America/Phoenix:20251214T150000
DTEND;TZID=America/Phoenix:20251214T163000
DTSTAMP:20260421T183109
CREATED:20250831T144616Z
LAST-MODIFIED:20260303T020909Z
UID:3762-1765724400-1765729800@sonorandesertchorale.org
SUMMARY:Candlelight Christmas
DESCRIPTION:Join the Chorale for a heartwarming evening of holiday magic! Experience the beauty of timeless Christmas classics performed with the warmth of candlelight. Featuring the angelic sounds of John Rutter’s Candlelight Carol\, Angel’s Carol\, and Christmas Lullaby\, this concert will fill your heart and soul with joy. Bring your loved ones and create unforgettable memories this holiday season!
URL:https://sonorandesertchorale.org/event/candlelight-christmas-2/
LOCATION:Camelback Bible Church\, 3900 E. Stanford Dr\, Paradise Valley\, 85253\, United States
CATEGORIES:Members
ATTACH;FMTTYPE=image/jpeg:https://sonorandesertchorale.org/wp-content/uploads/2025/09/Candlelight-scaled.jpg
ORGANIZER;CN="Sonoran Desert Chorale":MAILTO:ticketsSDC@gmail.com
END:VEVENT
BEGIN:VEVENT
DTSTART;TZID=America/Phoenix:20260228T193000
DTEND;TZID=America/Phoenix:20260228T213000
DTSTAMP:20260421T183109
CREATED:20250831T145159Z
LAST-MODIFIED:20250903T122956Z
UID:3764-1772307000-1772314200@sonorandesertchorale.org
SUMMARY:Orff's Carmina Burana
DESCRIPTION:Together with MCC’s Canto Vivo chorus\, we invite you to a thrilling performance of the Carmina Burana\, featuring Carl Orff’s dynamic arrangement for two pianos and percussion. This evocative cantata brings to life the medieval poems that explore the themes of fate\, love\, nature\, and revelry. Experience the stirring “O Fortuna\,” a powerful choral piece that opens and closes the work\, encapsulating the unpredictable nature of fortune.
URL:https://sonorandesertchorale.org/event/orffs-carmina-burana/
LOCATION:First United Methodist Church of Mesa\, 15 E 1st Ave\, Mesa\, AZ\, 85210\, United States
CATEGORIES:Public
ATTACH;FMTTYPE=image/jpeg:https://sonorandesertchorale.org/wp-content/uploads/2025/09/Carmina.jpg
ORGANIZER;CN="Sonoran Desert Chorale":MAILTO:ticketsSDC@gmail.com
END:VEVENT
BEGIN:VEVENT
DTSTART;TZID=America/Phoenix:20260301T150000
DTEND;TZID=America/Phoenix:20260301T170000
DTSTAMP:20260421T183109
CREATED:20250831T165419Z
LAST-MODIFIED:20250903T122927Z
UID:3769-1772377200-1772384400@sonorandesertchorale.org
SUMMARY:Orff's Carmina Burana
DESCRIPTION:Together with MCC’s Canto Vivo chorus\, we invite you to a thrilling performance of the Carmina Burana\, featuring Carl Orff’s dynamic arrangement for two pianos and percussion. This evocative cantata brings to life the medieval poems that explore the themes of fate\, love\, nature\, and revelry. Experience the stirring “O Fortuna\,” a powerful choral piece that opens and closes the work\, encapsulating the unpredictable nature of fortune.
URL:https://sonorandesertchorale.org/event/orffs-carmina-burana-2/
LOCATION:Camelback Bible Church\, 3900 E. Stanford Dr\, Paradise Valley\, 85253\, United States
CATEGORIES:Public
ATTACH;FMTTYPE=image/jpeg:https://sonorandesertchorale.org/wp-content/uploads/2025/09/Carmina.jpg
ORGANIZER;CN="Sonoran Desert Chorale":MAILTO:ticketsSDC@gmail.com
END:VEVENT
BEGIN:VEVENT
DTSTART;TZID=America/Phoenix:20260425T193000
DTEND;TZID=America/Phoenix:20260425T210000
DTSTAMP:20260421T183109
CREATED:20250831T165617Z
LAST-MODIFIED:20250903T122853Z
UID:3771-1777145400-1777150800@sonorandesertchorale.org
SUMMARY:Stage to Studio\, A Choral Pops Concert
DESCRIPTION:Witness the power of music as the Chorale takes you on a journey that transcends time. Exploring favorites from the stage to the studio\, this concert has everything from rock anthems to Broadway classics. From the soul-stirring beauty of What a Wonderful World to the infectious energy of Bohemian Rhapsody\, this concert will have you singing Lerner and Lowe’s I Could Have Danced All Night.
URL:https://sonorandesertchorale.org/event/stage-to-studio-a-choral-pops-concert/
LOCATION:First United Methodist Church of Mesa\, 15 E 1st Ave\, Mesa\, AZ\, 85210\, United States
CATEGORIES:Public
ATTACH;FMTTYPE=image/jpeg:https://sonorandesertchorale.org/wp-content/uploads/2025/09/ChoralePops-scaled.jpg
ORGANIZER;CN="Sonoran Desert Chorale":MAILTO:ticketsSDC@gmail.com
END:VEVENT
BEGIN:VEVENT
DTSTART;TZID=America/Phoenix:20260426T150000
DTEND;TZID=America/Phoenix:20260426T170000
DTSTAMP:20260421T183109
CREATED:20250831T165718Z
LAST-MODIFIED:20250903T122808Z
UID:3773-1777215600-1777222800@sonorandesertchorale.org
SUMMARY:Stage to Studio\, A Choral Pops Concert
DESCRIPTION:Witness the power of music as the Chorale takes you on a journey that transcends time. Exploring favorites from the stage to the studio\, this concert has everything from rock anthems to Broadway classics. From the soul-stirring beauty of What a Wonderful World to the infectious energy of Bohemian Rhapsody\, this concert will have you singing Lerner and Lowe’s I Could Have Danced All Night.
URL:https://sonorandesertchorale.org/event/stage-to-studio-a-choral-pops-concert-2/
LOCATION:Camelback Bible Church\, 3900 E. Stanford Dr\, Paradise Valley\, 85253\, United States
CATEGORIES:Public
ATTACH;FMTTYPE=image/jpeg:https://sonorandesertchorale.org/wp-content/uploads/2025/09/ChoralePops-scaled.jpg
ORGANIZER;CN="Sonoran Desert Chorale":MAILTO:ticketsSDC@gmail.com
END:VEVENT
END:VCALENDAR