BEGIN:VCALENDAR
VERSION:2.0
PRODID:-//Sonoran Desert Chorale - ECPv6.15.20//NONSGML v1.0//EN
CALSCALE:GREGORIAN
METHOD:PUBLISH
X-WR-CALNAME:Sonoran Desert Chorale
X-ORIGINAL-URL:https://sonorandesertchorale.org
X-WR-CALDESC:Events for Sonoran Desert Chorale
REFRESH-INTERVAL;VALUE=DURATION:PT1H
X-Robots-Tag:noindex
X-PUBLISHED-TTL:PT1H
BEGIN:VTIMEZONE
TZID:America/Phoenix
BEGIN:STANDARD
TZOFFSETFROM:-0700
TZOFFSETTO:-0700
TZNAME:MST
DTSTART:20210101T000000
END:STANDARD
END:VTIMEZONE
BEGIN:VEVENT
DTSTART;TZID=America/Phoenix:20240428T150000
DTEND;TZID=America/Phoenix:20240428T170000
DTSTAMP:20260421T170639
CREATED:20230913T223114Z
LAST-MODIFIED:20260303T020753Z
UID:2722-1714316400-1714323600@sonorandesertchorale.org
SUMMARY:Moved By the Spirit: America’s Heart Sunday April 28\, 2024 Concert 3:00PM at La Casa
DESCRIPTION:As the Chorale prepares for its 7th European Tour\, the repertoire reveals a distinctly American flair. Folk songs and spirituals (Moses Hogan\, Shawn Kirchner\, Alice Parker) plus pieces by Clausen\, Stroope\, Dellaira (The Campers at Kitty Hawk)\, and more. Expect a nod also to our Spanish and French hosts. Unite your hearts with ours and wish us Bon Voyage!
URL:https://sonorandesertchorale.org/event/moved-by-the-spirit-americas-heart-sunday-april-28-2024-concert-300pm-at-la-casa/
LOCATION:La Casa de Cristo Lutheran Church\, 6300 E Bell Rd\, Scottsdale\, AZ\, 85254\, United States
CATEGORIES:Members
ATTACH;FMTTYPE=image/jpeg:https://sonorandesertchorale.org/wp-content/uploads/2023/08/Concerts-website-images-4-scaled.jpg
ORGANIZER;CN="Sonoran Desert Chorale":MAILTO:ticketsSDC@gmail.com
END:VEVENT
BEGIN:VEVENT
DTSTART;TZID=America/Phoenix:20240427T193000
DTEND;TZID=America/Phoenix:20240427T213000
DTSTAMP:20260421T170639
CREATED:20230913T222906Z
LAST-MODIFIED:20260303T020749Z
UID:2720-1714246200-1714253400@sonorandesertchorale.org
SUMMARY:Moved By The Spirit: America’s Heart  Saturday April\, 27 2024 Concert 7:30PM at FUMC
DESCRIPTION:As the Chorale prepares for its 7th European Tour\, the repertoire reveals a distinctly American flair. Folk songs and spirituals (Moses Hogan\, Shawn Kirchner\, Alice Parker) plus pieces by Clausen\, Stroope\, Dellaira (The Campers at Kitty Hawk)\, and more. Expect a nod also to our Spanish and French hosts. Unite your hearts with ours and wish us Bon Voyage!
URL:https://sonorandesertchorale.org/event/moved-by-the-spirit-americas-heart-saturday-april-27-2024-concert-730pm-at-fumc/
LOCATION:First United Methodist Church of Mesa\, 15 E 1st Ave\, Mesa\, AZ\, 85210\, United States
CATEGORIES:Members
ATTACH;FMTTYPE=image/jpeg:https://sonorandesertchorale.org/wp-content/uploads/2023/08/Concerts-website-images-4-scaled.jpg
ORGANIZER;CN="Sonoran Desert Chorale":MAILTO:ticketsSDC@gmail.com
END:VEVENT
BEGIN:VEVENT
DTSTART;TZID=America/Phoenix:20240225T150000
DTEND;TZID=America/Phoenix:20240225T170000
DTSTAMP:20260421T170640
CREATED:20230913T222630Z
LAST-MODIFIED:20260303T020743Z
UID:2718-1708873200-1708880400@sonorandesertchorale.org
SUMMARY:Twice the Spirit: Two Choirs as One Sunday February 25\, 2024 Concert 3:00PM at La Casa
DESCRIPTION:The Sonoran Desert Chorale and Canto Vivo Chorale join together for a grand collaboration. Leonard Bernstein’s Chichester Psalms\, with organ and harp\, and Britten’s Rejoice in the Lamb headlines the concert. Double choir pieces include Coelos Ascendit by Sir Charles Villiers Stanford\, Faire is the Heaven by William Harris\, and Martin Shaw’s Sing We Merrily Unto God Our Strength. This will be a sound-fest you won’t want to miss! Featuring Ashley Strawser and Jeremy Peterman on organ\, Heidi Henandez on Harp\, and Thomas Murphy on Percussion.
URL:https://sonorandesertchorale.org/event/twice-the-spirit-two-choirs-as-one-sunday-february-25-2024-concert-300pm-at-la-casa/
LOCATION:La Casa de Cristo Lutheran Church\, 6300 E Bell Rd\, Scottsdale\, AZ\, 85254\, United States
CATEGORIES:Members
ATTACH;FMTTYPE=image/jpeg:https://sonorandesertchorale.org/wp-content/uploads/2023/08/Concerts-website-images-3-scaled.jpg
ORGANIZER;CN="Sonoran Desert Chorale":MAILTO:ticketsSDC@gmail.com
END:VEVENT
BEGIN:VEVENT
DTSTART;TZID=America/Phoenix:20240224T193000
DTEND;TZID=America/Phoenix:20240224T213000
DTSTAMP:20260421T170640
CREATED:20230913T222507Z
LAST-MODIFIED:20260303T020736Z
UID:2716-1708803000-1708810200@sonorandesertchorale.org
SUMMARY:Twice the Spirit: Two Choirs as One Saturday February\, 24 2024 Concert 7:30PM at FUMC
DESCRIPTION:The Sonoran Desert Chorale and Canto Vivo Chorale join together for a grand collaboration. Leonard Bernstein’s Chichester Psalms\, with organ and harp\, and Britten’s Rejoice in the Lamb headlines the concert. Double choir pieces include Coelos Ascendit by Sir Charles Villiers Stanford\, Faire is the Heaven by William Harris\, and Martin Shaw’s Sing We Merrily Unto God Our Strength. This will be a sound-fest you won’t want to miss! Featuring Ashley Strawser and Jeremy Peterman on organ\, Heidi Henandez on Harp\, and Thomas Murphy on Percussion.
URL:https://sonorandesertchorale.org/event/twice-the-spirit-two-choirs-as-one-saturday-february-24-2024-concert-730pm-at-fumc/
LOCATION:First United Methodist Church of Mesa\, 15 E 1st Ave\, Mesa\, AZ\, 85210\, United States
CATEGORIES:Members
ATTACH;FMTTYPE=image/jpeg:https://sonorandesertchorale.org/wp-content/uploads/2023/08/Concerts-website-images-3-scaled.jpg
ORGANIZER;CN="Sonoran Desert Chorale":MAILTO:ticketsSDC@gmail.com
END:VEVENT
BEGIN:VEVENT
DTSTART;TZID=America/Phoenix:20231210T150000
DTEND;TZID=America/Phoenix:20231210T170000
DTSTAMP:20260421T170640
CREATED:20230913T222011Z
LAST-MODIFIED:20260303T020717Z
UID:2714-1702220400-1702227600@sonorandesertchorale.org
SUMMARY:The Holiday Spirit: Voices and Brass Sunday December 10\, 2023 Concert 3:00PM at La Casa
DESCRIPTION:Welcome the holidays with the brilliance of voices\, brass\, and organ. Thrill to John Rutter’s Gloria and Randall Stroope’s Hodie (This Day!). The festivities invite exuberance as well as calm reflection. Revel in the season’s cheer with traditional carols and holiday favorites\, including some jazz arrangements. Come celebrate the spirit!
URL:https://sonorandesertchorale.org/event/the-holiday-spirit-voices-and-brass-sunday-december-10-2023-concert-300pm-at-la-casa/
LOCATION:La Casa de Cristo Lutheran Church\, 6300 E Bell Rd\, Scottsdale\, AZ\, 85254\, United States
CATEGORIES:Members
ATTACH;FMTTYPE=image/jpeg:https://sonorandesertchorale.org/wp-content/uploads/2023/08/Concerts-website-images-2-scaled.jpg
ORGANIZER;CN="Sonoran Desert Chorale":MAILTO:ticketsSDC@gmail.com
END:VEVENT
BEGIN:VEVENT
DTSTART;TZID=America/Phoenix:20231209T193000
DTEND;TZID=America/Phoenix:20231209T213000
DTSTAMP:20260421T170640
CREATED:20230913T221235Z
LAST-MODIFIED:20260303T020711Z
UID:2710-1702150200-1702157400@sonorandesertchorale.org
SUMMARY:The Holiday Spirit: Voices and Brass Saturday December 9\, 2023 Concert 7:30PM at FUMC
DESCRIPTION:Welcome the holidays with the brilliance of voices\, brass\, and organ. Thrill to John Rutter’s Gloria and Randall Stroope’s Hodie (This Day!). The festivities invite exuberance as well as calm reflection. Revel in the season’s cheer with traditional carols and holiday favorites\, including some jazz arrangements. Come celebrate the spirit!
URL:https://sonorandesertchorale.org/event/the-holiday-spirit-voices-and-brass-saturday-december-9-2023-concert-730pm-at-fumc/
LOCATION:First United Methodist Church of Mesa\, 15 E 1st Ave\, Mesa\, AZ\, 85210\, United States
CATEGORIES:Members
ATTACH;FMTTYPE=image/jpeg:https://sonorandesertchorale.org/wp-content/uploads/2023/08/Concerts-website-images-2-scaled.jpg
ORGANIZER;CN="Sonoran Desert Chorale":MAILTO:ticketsSDC@gmail.com
END:VEVENT
BEGIN:VEVENT
DTSTART;TZID=America/Phoenix:20231008T150000
DTEND;TZID=America/Phoenix:20231008T170000
DTSTAMP:20260421T170640
CREATED:20230827T223109Z
LAST-MODIFIED:20260303T020703Z
UID:2514-1696777200-1696784400@sonorandesertchorale.org
SUMMARY:Sublime Spirit: Inexpressible Wonder Sunday October 8\, 2023 Concert 3:00PM at La Casa
DESCRIPTION:Sounds of folk songs from Eastern Europe and hymns of the Orthodox tradition fill the air with joy and awe. Transcendent melody is paired with rhythm and text capturing both the\nhuman and the divine. Hear music from Estonia\, Lithuania\, Latvia\, Bosnia\, and more. Be captivated by the powers of laughter and reverence. Listen with your soul.
URL:https://sonorandesertchorale.org/event/sublime-spirit-inexpressible-wonder-sunday-october-8-2023-concert-300pm-at-la-casa/
LOCATION:La Casa de Cristo Lutheran Church\, 6300 E Bell Rd\, Scottsdale\, AZ\, 85254\, United States
CATEGORIES:Members
ATTACH;FMTTYPE=image/jpeg:https://sonorandesertchorale.org/wp-content/uploads/2023/08/Concerts-website-images-1-1-scaled.jpg
ORGANIZER;CN="Sonoran Desert Chorale":MAILTO:ticketsSDC@gmail.com
END:VEVENT
BEGIN:VEVENT
DTSTART;TZID=America/Phoenix:20231007T193000
DTEND;TZID=America/Phoenix:20231007T213000
DTSTAMP:20260421T170640
CREATED:20230827T211147Z
LAST-MODIFIED:20260303T020655Z
UID:2509-1696707000-1696714200@sonorandesertchorale.org
SUMMARY:Sublime Spirit: Inexpressible Wonder Saturday October 7\, 2023 Concert 7:30PM at FUMC
DESCRIPTION:Sounds of folk songs from Eastern Europe and hymns of the Orthodox tradition fill the air with joy and awe. Transcendent melody is paired with rhythm and text capturing both the\nhuman and the divine. Hear music from Estonia\, Lithuania\, Latvia\, Bosnia\, and more. Be captivated by the powers of laughter and reverence. Listen with your soul.
URL:https://sonorandesertchorale.org/event/sublime-spirit-inexpressible-wonder/
LOCATION:First United Methodist Church of Mesa\, 15 E 1st Ave\, Mesa\, AZ\, 85210\, United States
CATEGORIES:Members
ATTACH;FMTTYPE=image/jpeg:https://sonorandesertchorale.org/wp-content/uploads/2023/08/Concerts-website-images-1-1-scaled.jpg
ORGANIZER;CN="Sonoran Desert Chorale":MAILTO:ticketsSDC@gmail.com
END:VEVENT
BEGIN:VEVENT
DTSTART;TZID=America/Phoenix:20230507T150000
DTEND;TZID=America/Phoenix:20230507T170000
DTSTAMP:20260421T170640
CREATED:20220720T200931Z
LAST-MODIFIED:20260303T020649Z
UID:1277-1683471600-1683478800@sonorandesertchorale.org
SUMMARY:A Bouquet of Flowers ~ Sunday May 7\, 2023 Concert 3:00PM at La Casa
DESCRIPTION:Our world\, our lives are enriched by the glory of flowers. We bring you a bouquet of flowers in song – bright\, colorful\, full of promise and delight. Whitacre\, Clausen\, Lauridsen\, Lundvik\, and others provide the garden. \n“Where flowers bloom so does hope.”~Lady Bird Johnson
URL:https://sonorandesertchorale.org/event/a-bouquet-of-flowers-sunday-may-7-2023-concert-300pm-at-la-casa/
LOCATION:La Casa de Cristo Lutheran Church\, 6300 E Bell Rd\, Scottsdale\, AZ\, 85254\, United States
CATEGORIES:Members
ATTACH;FMTTYPE=image/jpeg:https://sonorandesertchorale.org/wp-content/uploads/2022/07/flowers_kateryna-tyshkul-unsplash-copy2-scaled.jpg
ORGANIZER;CN="Sonoran Desert Chorale":MAILTO:ticketsSDC@gmail.com
END:VEVENT
BEGIN:VEVENT
DTSTART;TZID=America/Phoenix:20230506T193000
DTEND;TZID=America/Phoenix:20230506T213000
DTSTAMP:20260421T170640
CREATED:20220720T200525Z
LAST-MODIFIED:20260303T020639Z
UID:1275-1683401400-1683408600@sonorandesertchorale.org
SUMMARY:A Bouquet of Flowers ~ Saturday May 6\, 2023 Concert 7:30PM at FUMC
DESCRIPTION:Our world\, our lives are enriched by the glory of flowers. We bring you a bouquet of flowers in song – bright\, colorful\, full of promise and delight. Whitacre\, Clausen\, Lauridsen\, Lundvik\, and others provide the garden. \n“Where flowers bloom so does hope.”~Lady Bird Johnson
URL:https://sonorandesertchorale.org/event/a-bouquet-of-flowers-saturday-may-6-2023-concert-730pm-at-fumc/
LOCATION:First United Methodist Church of Mesa\, 15 E 1st Ave\, Mesa\, AZ\, 85210\, United States
CATEGORIES:Members
ATTACH;FMTTYPE=image/jpeg:https://sonorandesertchorale.org/wp-content/uploads/2022/07/flowers_kier-unsplash-copy2-scaled.jpg
ORGANIZER;CN="Sonoran Desert Chorale":MAILTO:ticketsSDC@gmail.com
END:VEVENT
BEGIN:VEVENT
DTSTART;TZID=America/Phoenix:20230226T150000
DTEND;TZID=America/Phoenix:20230226T170000
DTSTAMP:20260421T170640
CREATED:20220719T212338Z
LAST-MODIFIED:20260303T020632Z
UID:1165-1677423600-1677430800@sonorandesertchorale.org
SUMMARY:Choral Classics ~ Sunday February 26\, 2023 Concert 3:00PM at La Casa
DESCRIPTION:Music by Rachmaninoff\, Stanford\, Mendelssohn\, and more. \n“He (Rachmaninoff ) was the most Russian of them all\, like a cathedral in the snow. Holy\, wintry\, infinite\, he was all the Russias.”~Dagmar Godowsky
URL:https://sonorandesertchorale.org/event/cathedral-classics-sunday-february-26-2023-concert-300pm-at-la-casa/
LOCATION:La Casa de Cristo Lutheran Church\, 6300 E Bell Rd\, Scottsdale\, AZ\, 85254\, United States
CATEGORIES:Members
ATTACH;FMTTYPE=image/jpeg:https://sonorandesertchorale.org/wp-content/uploads/2022/07/March_mauricio-cuellar-unsplash-copy2-scaled.jpg
ORGANIZER;CN="Sonoran Desert Chorale":MAILTO:ticketsSDC@gmail.com
END:VEVENT
BEGIN:VEVENT
DTSTART;TZID=America/Phoenix:20230225T193000
DTEND;TZID=America/Phoenix:20230225T213000
DTSTAMP:20260421T170640
CREATED:20220719T212211Z
LAST-MODIFIED:20260303T020625Z
UID:1162-1677353400-1677360600@sonorandesertchorale.org
SUMMARY:Choral Classics ~ Saturday February 25\, 2023 Concert 7:30PM at FUMC
DESCRIPTION:Music by Rachmaninoff\, Stanford\, Mendelssohn\, and more. \n“He (Rachmaninoff ) was the most Russian of them all\, like a cathedral in the snow. Holy\, wintry\, infinite\, he was all the Russias.”~Dagmar Godowsky
URL:https://sonorandesertchorale.org/event/cathedral-classics-saturday-february-25-2023-concert-730pm-at-fumc/
LOCATION:First United Methodist Church of Mesa\, 15 E 1st Ave\, Mesa\, AZ\, 85210\, United States
CATEGORIES:Members
ATTACH;FMTTYPE=image/jpeg:https://sonorandesertchorale.org/wp-content/uploads/2022/07/March_marc-olivier-jodoin-unsplash-copy2-scaled.jpg
ORGANIZER;CN="Sonoran Desert Chorale":MAILTO:ticketsSDC@gmail.com
END:VEVENT
BEGIN:VEVENT
DTSTART;TZID=America/Phoenix:20221211T150000
DTEND;TZID=America/Phoenix:20221211T170000
DTSTAMP:20260421T170640
CREATED:20220719T210901Z
LAST-MODIFIED:20260303T020618Z
UID:1152-1670770800-1670778000@sonorandesertchorale.org
SUMMARY:Songs for the Season ~ Sunday December 11\, 2022 Concert 3:00PM at La Casa
DESCRIPTION:Carols and Lullabies of the Southwest (Conrad Susa) with guitar\, harp\, and marimba plus seasonal pieces from Benjamin Britten\, Michael Fink\, Steve Heitzig and others to fill you with the warmth of the season. \n“Soft closer of our eyes! Low murmur of tender lullabies!”~ John Keats
URL:https://sonorandesertchorale.org/event/holiday-sunday-december-11-2022-concert-300pm-at-la-casa/
LOCATION:La Casa de Cristo Lutheran Church\, 6300 E Bell Rd\, Scottsdale\, AZ\, 85254\, United States
CATEGORIES:Members
ATTACH;FMTTYPE=image/jpeg:https://sonorandesertchorale.org/wp-content/uploads/2022/07/holiday_pexels-jimmy-chan-copy2-scaled.jpg
ORGANIZER;CN="Sonoran Desert Chorale":MAILTO:ticketsSDC@gmail.com
END:VEVENT
BEGIN:VEVENT
DTSTART;TZID=America/Phoenix:20221210T193000
DTEND;TZID=America/Phoenix:20221210T213000
DTSTAMP:20260421T170640
CREATED:20220719T211146Z
LAST-MODIFIED:20260303T020608Z
UID:1151-1670700600-1670707800@sonorandesertchorale.org
SUMMARY:Songs for the Season ~ Saturday December 10\, 2022 Concert 7:30PM at FUMC
DESCRIPTION:Carols and Lullabies of the Southwest (Conrad Susa) with guitar\, harp\, and marimba plus seasonal pieces from Benjamin Britten\, Michael Fink\, Steve Heitzig and others to fill you with the warmth of the season. \n“Soft closer of our eyes! Low murmur of tender lullabies!”~ John Keats
URL:https://sonorandesertchorale.org/event/sing-joyfully-saturday-december-10-2022-concert-730pm-at-fumc/
LOCATION:First United Methodist Church of Mesa\, 15 E 1st Ave\, Mesa\, AZ\, 85210\, United States
CATEGORIES:Members
ATTACH;FMTTYPE=image/jpeg:https://sonorandesertchorale.org/wp-content/uploads/2022/07/holiday_pexels-severus-jones-copy2-scaled.jpg
ORGANIZER;CN="Sonoran Desert Chorale":MAILTO:ticketsSDC@gmail.com
END:VEVENT
BEGIN:VEVENT
DTSTART;TZID=America/Phoenix:20221002T150000
DTEND;TZID=America/Phoenix:20221002T170000
DTSTAMP:20260421T170640
CREATED:20220716T222738Z
LAST-MODIFIED:20260303T020559Z
UID:851-1664722800-1664730000@sonorandesertchorale.org
SUMMARY:Sing Joyfully! Sunday October 2\, 2022 Concert 3:00PM at La Casa
DESCRIPTION:We raise our voices to celebrate life and living\, spiritual harmony\, and music itself. Songs of praise\, resolve\, and courage from composers Stroope\, Rutter\, Paulus\, Lauridsen\, Dickau\, and more ring true in our hearts and souls. \n“Find ecstasy in life: the mere sense of living is joy enough.”~Emily Dickinson
URL:https://sonorandesertchorale.org/event/sing-joyfully-sunday-october-2-2022-concert-300pm-at-la-casa/
LOCATION:La Casa de Cristo Lutheran Church\, 6300 E Bell Rd\, Scottsdale\, AZ\, 85254\, United States
CATEGORIES:Members
ATTACH;FMTTYPE=image/jpeg:https://sonorandesertchorale.org/wp-content/uploads/2022/07/sing-joyfully_pexels-copy2-scaled.jpg
ORGANIZER;CN="Sonoran Desert Chorale":MAILTO:ticketsSDC@gmail.com
END:VEVENT
BEGIN:VEVENT
DTSTART;TZID=America/Phoenix:20221001T193000
DTEND;TZID=America/Phoenix:20221001T213000
DTSTAMP:20260421T170640
CREATED:20220710T081022Z
LAST-MODIFIED:20260303T020548Z
UID:804-1664652600-1664659800@sonorandesertchorale.org
SUMMARY:Sing Joyfully! Saturday October 1\, 2022 Concert 7:30PM at FUMC
DESCRIPTION:We raise our voices to celebrate life and living\, spiritual harmony\, and music itself. Songs of praise\, resolve\, and courage from composers Stroope\, Rutter\, Paulus\, Lauridsen\, Dickau\, and more ring true in our hearts and souls. \n“Find ecstasy in life: the mere sense of living is joy enough.”~Emily Dickinson
URL:https://sonorandesertchorale.org/event/fall-concert-saturday-october-1-2022-concert-730pm-at-fumc/
LOCATION:First United Methodist Church of Mesa\, 15 E 1st Ave\, Mesa\, AZ\, 85210\, United States
CATEGORIES:Members
ATTACH;FMTTYPE=image/jpeg:https://sonorandesertchorale.org/wp-content/uploads/2022/07/sing-joyfully_christie-greene-unsplash-copy2-scaled.jpg
ORGANIZER;CN="Sonoran Desert Chorale":MAILTO:ticketsSDC@gmail.com
END:VEVENT
END:VCALENDAR