BEGIN:VCALENDAR
VERSION:2.0
PRODID:-//Sonoran Desert Chorale - ECPv6.15.20//NONSGML v1.0//EN
CALSCALE:GREGORIAN
METHOD:PUBLISH
X-ORIGINAL-URL:http://sonorandesertchorale.org
X-WR-CALDESC:Events for Sonoran Desert Chorale
REFRESH-INTERVAL;VALUE=DURATION:PT1H
X-Robots-Tag:noindex
X-PUBLISHED-TTL:PT1H
BEGIN:VTIMEZONE
TZID:America/Phoenix
BEGIN:STANDARD
TZOFFSETFROM:-0700
TZOFFSETTO:-0700
TZNAME:MST
DTSTART:20220101T000000
END:STANDARD
END:VTIMEZONE
BEGIN:VEVENT
DTSTART;TZID=America/Phoenix:20231209T193000
DTEND;TZID=America/Phoenix:20231209T213000
DTSTAMP:20260421T101931
CREATED:20230913T221235Z
LAST-MODIFIED:20260303T020711Z
UID:2710-1702150200-1702157400@sonorandesertchorale.org
SUMMARY:The Holiday Spirit: Voices and Brass Saturday December 9\, 2023 Concert 7:30PM at FUMC
DESCRIPTION:Welcome the holidays with the brilliance of voices\, brass\, and organ. Thrill to John Rutter’s Gloria and Randall Stroope’s Hodie (This Day!). The festivities invite exuberance as well as calm reflection. Revel in the season’s cheer with traditional carols and holiday favorites\, including some jazz arrangements. Come celebrate the spirit!
URL:http://sonorandesertchorale.org/event/the-holiday-spirit-voices-and-brass-saturday-december-9-2023-concert-730pm-at-fumc/
LOCATION:First United Methodist Church of Mesa\, 15 E 1st Ave\, Mesa\, AZ\, 85210\, United States
CATEGORIES:Members
ATTACH;FMTTYPE=image/jpeg:http://sonorandesertchorale.org/wp-content/uploads/2023/08/Concerts-website-images-2-scaled.jpg
ORGANIZER;CN="Sonoran Desert Chorale":MAILTO:ticketsSDC@gmail.com
END:VEVENT
BEGIN:VEVENT
DTSTART;TZID=America/Phoenix:20231210T150000
DTEND;TZID=America/Phoenix:20231210T170000
DTSTAMP:20260421T101931
CREATED:20230913T222011Z
LAST-MODIFIED:20260303T020717Z
UID:2714-1702220400-1702227600@sonorandesertchorale.org
SUMMARY:The Holiday Spirit: Voices and Brass Sunday December 10\, 2023 Concert 3:00PM at La Casa
DESCRIPTION:Welcome the holidays with the brilliance of voices\, brass\, and organ. Thrill to John Rutter’s Gloria and Randall Stroope’s Hodie (This Day!). The festivities invite exuberance as well as calm reflection. Revel in the season’s cheer with traditional carols and holiday favorites\, including some jazz arrangements. Come celebrate the spirit!
URL:http://sonorandesertchorale.org/event/the-holiday-spirit-voices-and-brass-sunday-december-10-2023-concert-300pm-at-la-casa/
LOCATION:La Casa de Cristo Lutheran Church\, 6300 E Bell Rd\, Scottsdale\, AZ\, 85254\, United States
CATEGORIES:Members
ATTACH;FMTTYPE=image/jpeg:http://sonorandesertchorale.org/wp-content/uploads/2023/08/Concerts-website-images-2-scaled.jpg
ORGANIZER;CN="Sonoran Desert Chorale":MAILTO:ticketsSDC@gmail.com
END:VEVENT
BEGIN:VEVENT
DTSTART;TZID=America/Phoenix:20240224T193000
DTEND;TZID=America/Phoenix:20240224T213000
DTSTAMP:20260421T101931
CREATED:20230913T222507Z
LAST-MODIFIED:20260303T020736Z
UID:2716-1708803000-1708810200@sonorandesertchorale.org
SUMMARY:Twice the Spirit: Two Choirs as One Saturday February\, 24 2024 Concert 7:30PM at FUMC
DESCRIPTION:The Sonoran Desert Chorale and Canto Vivo Chorale join together for a grand collaboration. Leonard Bernstein’s Chichester Psalms\, with organ and harp\, and Britten’s Rejoice in the Lamb headlines the concert. Double choir pieces include Coelos Ascendit by Sir Charles Villiers Stanford\, Faire is the Heaven by William Harris\, and Martin Shaw’s Sing We Merrily Unto God Our Strength. This will be a sound-fest you won’t want to miss! Featuring Ashley Strawser and Jeremy Peterman on organ\, Heidi Henandez on Harp\, and Thomas Murphy on Percussion.
URL:http://sonorandesertchorale.org/event/twice-the-spirit-two-choirs-as-one-saturday-february-24-2024-concert-730pm-at-fumc/
LOCATION:First United Methodist Church of Mesa\, 15 E 1st Ave\, Mesa\, AZ\, 85210\, United States
CATEGORIES:Members
ATTACH;FMTTYPE=image/jpeg:http://sonorandesertchorale.org/wp-content/uploads/2023/08/Concerts-website-images-3-scaled.jpg
ORGANIZER;CN="Sonoran Desert Chorale":MAILTO:ticketsSDC@gmail.com
END:VEVENT
BEGIN:VEVENT
DTSTART;TZID=America/Phoenix:20240225T150000
DTEND;TZID=America/Phoenix:20240225T170000
DTSTAMP:20260421T101931
CREATED:20230913T222630Z
LAST-MODIFIED:20260303T020743Z
UID:2718-1708873200-1708880400@sonorandesertchorale.org
SUMMARY:Twice the Spirit: Two Choirs as One Sunday February 25\, 2024 Concert 3:00PM at La Casa
DESCRIPTION:The Sonoran Desert Chorale and Canto Vivo Chorale join together for a grand collaboration. Leonard Bernstein’s Chichester Psalms\, with organ and harp\, and Britten’s Rejoice in the Lamb headlines the concert. Double choir pieces include Coelos Ascendit by Sir Charles Villiers Stanford\, Faire is the Heaven by William Harris\, and Martin Shaw’s Sing We Merrily Unto God Our Strength. This will be a sound-fest you won’t want to miss! Featuring Ashley Strawser and Jeremy Peterman on organ\, Heidi Henandez on Harp\, and Thomas Murphy on Percussion.
URL:http://sonorandesertchorale.org/event/twice-the-spirit-two-choirs-as-one-sunday-february-25-2024-concert-300pm-at-la-casa/
LOCATION:La Casa de Cristo Lutheran Church\, 6300 E Bell Rd\, Scottsdale\, AZ\, 85254\, United States
CATEGORIES:Members
ATTACH;FMTTYPE=image/jpeg:http://sonorandesertchorale.org/wp-content/uploads/2023/08/Concerts-website-images-3-scaled.jpg
ORGANIZER;CN="Sonoran Desert Chorale":MAILTO:ticketsSDC@gmail.com
END:VEVENT
BEGIN:VEVENT
DTSTART;TZID=America/Phoenix:20240427T193000
DTEND;TZID=America/Phoenix:20240427T213000
DTSTAMP:20260421T101931
CREATED:20230913T222906Z
LAST-MODIFIED:20260303T020749Z
UID:2720-1714246200-1714253400@sonorandesertchorale.org
SUMMARY:Moved By The Spirit: America’s Heart  Saturday April\, 27 2024 Concert 7:30PM at FUMC
DESCRIPTION:As the Chorale prepares for its 7th European Tour\, the repertoire reveals a distinctly American flair. Folk songs and spirituals (Moses Hogan\, Shawn Kirchner\, Alice Parker) plus pieces by Clausen\, Stroope\, Dellaira (The Campers at Kitty Hawk)\, and more. Expect a nod also to our Spanish and French hosts. Unite your hearts with ours and wish us Bon Voyage!
URL:http://sonorandesertchorale.org/event/moved-by-the-spirit-americas-heart-saturday-april-27-2024-concert-730pm-at-fumc/
LOCATION:First United Methodist Church of Mesa\, 15 E 1st Ave\, Mesa\, AZ\, 85210\, United States
CATEGORIES:Members
ATTACH;FMTTYPE=image/jpeg:http://sonorandesertchorale.org/wp-content/uploads/2023/08/Concerts-website-images-4-scaled.jpg
ORGANIZER;CN="Sonoran Desert Chorale":MAILTO:ticketsSDC@gmail.com
END:VEVENT
BEGIN:VEVENT
DTSTART;TZID=America/Phoenix:20240428T150000
DTEND;TZID=America/Phoenix:20240428T170000
DTSTAMP:20260421T101931
CREATED:20230913T223114Z
LAST-MODIFIED:20260303T020753Z
UID:2722-1714316400-1714323600@sonorandesertchorale.org
SUMMARY:Moved By the Spirit: America’s Heart Sunday April 28\, 2024 Concert 3:00PM at La Casa
DESCRIPTION:As the Chorale prepares for its 7th European Tour\, the repertoire reveals a distinctly American flair. Folk songs and spirituals (Moses Hogan\, Shawn Kirchner\, Alice Parker) plus pieces by Clausen\, Stroope\, Dellaira (The Campers at Kitty Hawk)\, and more. Expect a nod also to our Spanish and French hosts. Unite your hearts with ours and wish us Bon Voyage!
URL:http://sonorandesertchorale.org/event/moved-by-the-spirit-americas-heart-sunday-april-28-2024-concert-300pm-at-la-casa/
LOCATION:La Casa de Cristo Lutheran Church\, 6300 E Bell Rd\, Scottsdale\, AZ\, 85254\, United States
CATEGORIES:Members
ATTACH;FMTTYPE=image/jpeg:http://sonorandesertchorale.org/wp-content/uploads/2023/08/Concerts-website-images-4-scaled.jpg
ORGANIZER;CN="Sonoran Desert Chorale":MAILTO:ticketsSDC@gmail.com
END:VEVENT
BEGIN:VEVENT
DTSTART;TZID=America/Phoenix:20241005T193000
DTEND;TZID=America/Phoenix:20241005T213000
DTSTAMP:20260421T101931
CREATED:20240806T014528Z
LAST-MODIFIED:20260303T020759Z
UID:3571-1728156600-1728163800@sonorandesertchorale.org
SUMMARY:Music of the Night Saturday October 5\, 2024 Concert 7:30PM at FUMC
DESCRIPTION:A night to remember! Join us as we journey into the mysteries of the night with music from contemporary American composers\, punctuated with the enchanting rhythms of Schumann’s\nZigeunerleben. Peaceful lullabies\, sonnets to the moon\, and poignant nocturnes will leave you dreaming of starlight.
URL:http://sonorandesertchorale.org/event/music-of-the-night-saturday-october-5-2024-concert-730pm-at-fumc/
LOCATION:First United Methodist Church of Mesa\, 15 E 1st Ave\, Mesa\, AZ\, 85210\, United States
CATEGORIES:Members
ATTACH;FMTTYPE=image/jpeg:http://sonorandesertchorale.org/wp-content/uploads/2024/08/SDC24-25_SocialMedia-WebEvent_October_M-300-scaled.jpg
ORGANIZER;CN="Sonoran Desert Chorale":MAILTO:ticketsSDC@gmail.com
END:VEVENT
BEGIN:VEVENT
DTSTART;TZID=America/Phoenix:20241006T150000
DTEND;TZID=America/Phoenix:20241006T170000
DTSTAMP:20260421T101931
CREATED:20240829T022303Z
LAST-MODIFIED:20260303T020805Z
UID:3579-1728226800-1728234000@sonorandesertchorale.org
SUMMARY:Music of the Night Sunday October 6\, 2024 Concert 3:00PM at La Casa
DESCRIPTION:A night to remember! Join us as we journey into the mysteries of the night with music from contemporary American composers\, punctuated with the enchanting rhythms of Schumann’s\nZigeunerleben. Peaceful lullabies\, sonnets to the moon\, and poignant nocturnes will leave you dreaming of starlight.
URL:http://sonorandesertchorale.org/event/music-of-the-night-sunday-october-6-2024-concert-300pm-at-la-casa/
LOCATION:La Casa de Cristo Lutheran Church\, 6300 E Bell Rd\, Scottsdale\, AZ\, 85254\, United States
CATEGORIES:Members
ATTACH;FMTTYPE=image/jpeg:http://sonorandesertchorale.org/wp-content/uploads/2024/08/SDC24-25_SocialMedia-WebEvent_October_M-300-scaled.jpg
ORGANIZER;CN="Sonoran Desert Chorale":MAILTO:ticketsSDC@gmail.com
END:VEVENT
BEGIN:VEVENT
DTSTART;TZID=America/Phoenix:20241214T193000
DTEND;TZID=America/Phoenix:20241214T213000
DTSTAMP:20260421T101931
CREATED:20240906T230117Z
LAST-MODIFIED:20260303T020809Z
UID:3649-1734204600-1734211800@sonorandesertchorale.org
SUMMARY:The Most Wonderful Time Saturday December 14\, 2024 Concert 7:30PM at FUMC
DESCRIPTION:A mix of familiar carols and classical Christmas masterpieces remind us that it’s the happiest season of all. We’ll raise our voices with the organ and strings as we proclaim Vivaldi’s Gloria\, Rutter’s Angels’ Carol\, and more.
URL:http://sonorandesertchorale.org/event/the-most-wonderful-time-saturday-december-14-2024-concert-730pm-at-fumc/
LOCATION:First United Methodist Church of Mesa\, 15 E 1st Ave\, Mesa\, AZ\, 85210\, United States
CATEGORIES:Members
ATTACH;FMTTYPE=image/jpeg:http://sonorandesertchorale.org/wp-content/uploads/2024/08/SDC24-25_SocialMedia-WebEvent_December_M-300-scaled.jpg
ORGANIZER;CN="Sonoran Desert Chorale":MAILTO:ticketsSDC@gmail.com
END:VEVENT
BEGIN:VEVENT
DTSTART;TZID=America/Phoenix:20241215T150000
DTEND;TZID=America/Phoenix:20241215T170000
DTSTAMP:20260421T101931
CREATED:20240906T230842Z
LAST-MODIFIED:20260303T020814Z
UID:3650-1734274800-1734282000@sonorandesertchorale.org
SUMMARY:The Most Wonderful Time Sunday December 15\, 2024 Concert 3:00PM at La Casa
DESCRIPTION:A mix of familiar carols and classical Christmas masterpieces remind us that it’s the happiest season of all. We’ll raise our voices with the organ and strings as we proclaim Vivaldi’s Gloria\, Rutter’s Angels’ Carol\, and more.
URL:http://sonorandesertchorale.org/event/the-most-wonderful-time-sunday-december-15-2024-concert-300pm-at-la-casa/
LOCATION:La Casa de Cristo Lutheran Church\, 6300 E Bell Rd\, Scottsdale\, AZ\, 85254\, United States
CATEGORIES:Members
ATTACH;FMTTYPE=image/jpeg:http://sonorandesertchorale.org/wp-content/uploads/2024/08/SDC24-25_SocialMedia-WebEvent_December_M-300-scaled.jpg
ORGANIZER;CN="Sonoran Desert Chorale":MAILTO:ticketsSDC@gmail.com
END:VEVENT
BEGIN:VEVENT
DTSTART;TZID=America/Phoenix:20250222T193000
DTEND;TZID=America/Phoenix:20250222T213000
DTSTAMP:20260421T101931
CREATED:20240907T001022Z
LAST-MODIFIED:20260303T020821Z
UID:3657-1740252600-1740259800@sonorandesertchorale.org
SUMMARY:It's About Time Saturday February 22\, 2025 Concert 7:30PM at FUMC
DESCRIPTION:It’s all about the beat – intricate rhythms in multiple languages. You’re welcome to tap\, snap\, and clap along! Spirituals\, intimate chamber pieces\, and meditative modern melodies.
URL:http://sonorandesertchorale.org/event/its-about-time-saturday-february-22-2025-concert-730pm-at-fumc/
LOCATION:First United Methodist Church of Mesa\, 15 E 1st Ave\, Mesa\, AZ\, 85210\, United States
CATEGORIES:Members
ATTACH;FMTTYPE=image/jpeg:http://sonorandesertchorale.org/wp-content/uploads/2024/08/SDC24-25_SocialMedia-WebEvent_February_M-300-scaled.jpg
ORGANIZER;CN="Sonoran Desert Chorale":MAILTO:ticketsSDC@gmail.com
END:VEVENT
BEGIN:VEVENT
DTSTART;TZID=America/Phoenix:20250223T150000
DTEND;TZID=America/Phoenix:20250223T170000
DTSTAMP:20260421T101931
CREATED:20240907T001125Z
LAST-MODIFIED:20260303T020826Z
UID:3658-1740322800-1740330000@sonorandesertchorale.org
SUMMARY:It's About Time Sunday February 23\, 2025 Concert 3:00PM at La Casa
DESCRIPTION:It’s all about the beat – intricate rhythms in multiple languages. You’re welcome to tap\, snap\, and clap along! Spirituals\, intimate chamber pieces\, and meditative modern melodies.
URL:http://sonorandesertchorale.org/event/its-about-time-sunday-february-23-2025-concert-300pm-at-la-casa/
LOCATION:La Casa de Cristo Lutheran Church\, 6300 E Bell Rd\, Scottsdale\, AZ\, 85254\, United States
CATEGORIES:Members
ATTACH;FMTTYPE=image/jpeg:http://sonorandesertchorale.org/wp-content/uploads/2024/08/SDC24-25_SocialMedia-WebEvent_February_M-300-scaled.jpg
ORGANIZER;CN="Sonoran Desert Chorale":MAILTO:ticketsSDC@gmail.com
END:VEVENT
BEGIN:VEVENT
DTSTART;TZID=America/Phoenix:20250503T193000
DTEND;TZID=America/Phoenix:20250503T213000
DTSTAMP:20260421T101931
CREATED:20240907T004044Z
LAST-MODIFIED:20260303T020833Z
UID:3663-1746300600-1746307800@sonorandesertchorale.org
SUMMARY:Around the World in 80 Minutes Saturday May 3\, 2025 Concert 7:30PM at FUMC
DESCRIPTION:Let the chorale send you into summer on a virtual tour of the globe. This exciting evening will touch down in every corner of the earth. Experience a world of culture in a single concert!
URL:http://sonorandesertchorale.org/event/around-the-world-in-80-minutes-saturday-may-3-2025-concert-730pm-at-fumc/
LOCATION:First United Methodist Church of Mesa\, 15 E 1st Ave\, Mesa\, AZ\, 85210\, United States
CATEGORIES:Members
ATTACH;FMTTYPE=image/jpeg:http://sonorandesertchorale.org/wp-content/uploads/2024/08/SDC24-25_SocialMedia-WebEvent_May_L-300-scaled.jpg
ORGANIZER;CN="Sonoran Desert Chorale":MAILTO:ticketsSDC@gmail.com
END:VEVENT
BEGIN:VEVENT
DTSTART;TZID=America/Phoenix:20250504T150000
DTEND;TZID=America/Phoenix:20250504T170000
DTSTAMP:20260421T101931
CREATED:20240907T003917Z
LAST-MODIFIED:20260303T020840Z
UID:3664-1746370800-1746378000@sonorandesertchorale.org
SUMMARY:Around the World in 80 Minutes Sunday May 4\, 2025 Concert 3:00PM at La Casa
DESCRIPTION:Let the chorale send you into summer on a virtual tour of the globe. This exciting evening will touch down in every corner of the earth. Experience a world of culture in a single concert!
URL:http://sonorandesertchorale.org/event/around-the-world-in-80-minutes-sunday-may-4-2025-concert-300pm-at-la-casa/
LOCATION:La Casa de Cristo Lutheran Church\, 6300 E Bell Rd\, Scottsdale\, AZ\, 85254\, United States
CATEGORIES:Members
ATTACH;FMTTYPE=image/jpeg:http://sonorandesertchorale.org/wp-content/uploads/2024/08/SDC24-25_SocialMedia-WebEvent_May_L-300-scaled.jpg
ORGANIZER;CN="Sonoran Desert Chorale":MAILTO:ticketsSDC@gmail.com
END:VEVENT
BEGIN:VEVENT
DTSTART;TZID=America/Phoenix:20251004T193000
DTEND;TZID=America/Phoenix:20251004T210000
DTSTAMP:20260421T101931
CREATED:20250830T231253Z
LAST-MODIFIED:20260303T020846Z
UID:3743-1759606200-1759611600@sonorandesertchorale.org
SUMMARY:In Remembrance
DESCRIPTION:Experience the emotional depth and beauty of In Remembrance\, a concert honoring memory and the enduring light of hope. Featuring Eleanor Daley’s moving Requiem\, along with music by\nTicheli\, Tavener\, Paulus\, and spirituals arranged by William Dawson. This program blends classical and contemporary works into a powerful tribute that speaks to the heart. Let the music carry you on a journey of remembrance and renewal.
URL:http://sonorandesertchorale.org/event/in-remembrance/
LOCATION:First United Methodist Church of Mesa\, 15 E 1st Ave\, Mesa\, AZ\, 85210\, United States
CATEGORIES:Members
ATTACH;FMTTYPE=image/jpeg:http://sonorandesertchorale.org/wp-content/uploads/2025/08/InRemembrance.jpg
ORGANIZER;CN="Sonoran Desert Chorale":MAILTO:ticketsSDC@gmail.com
END:VEVENT
BEGIN:VEVENT
DTSTART;TZID=America/Phoenix:20251005T150000
DTEND;TZID=America/Phoenix:20251005T163000
DTSTAMP:20260421T101931
CREATED:20250831T002804Z
LAST-MODIFIED:20260303T020900Z
UID:3749-1759676400-1759681800@sonorandesertchorale.org
SUMMARY:In Remembrance
DESCRIPTION:Experience the emotional depth and beauty of In Remembrance\, a concert honoring memory and the enduring light of hope. Featuring Eleanor Daley’s moving Requiem\, along with music by\nTicheli\, Tavener\, Paulus\, and spirituals arranged by William Dawson. This program blends classical and contemporary works into a powerful tribute that speaks to the heart. Let the music carry you on a journey of remembrance and renewal.
URL:http://sonorandesertchorale.org/event/in-remembrance-2/
LOCATION:Camelback Bible Church\, 3900 E. Stanford Dr\, Paradise Valley\, 85253\, United States
CATEGORIES:Members
ATTACH;FMTTYPE=image/jpeg:http://sonorandesertchorale.org/wp-content/uploads/2025/08/InRemembrance.jpg
ORGANIZER;CN="Sonoran Desert Chorale":MAILTO:ticketsSDC@gmail.com
END:VEVENT
BEGIN:VEVENT
DTSTART;TZID=America/Phoenix:20251213T193000
DTEND;TZID=America/Phoenix:20251213T210000
DTSTAMP:20260421T101931
CREATED:20250831T144435Z
LAST-MODIFIED:20260303T020905Z
UID:3760-1765654200-1765659600@sonorandesertchorale.org
SUMMARY:Candlelight Christmas
DESCRIPTION:Join the Chorale for a heartwarming evening of holiday magic! Experience the beauty of timeless Christmas classics performed with the warmth of candlelight. Featuring the angelic sounds of John Rutter’s Candlelight Carol\, Angel’s Carol\, and Christmas Lullaby\, this concert will fill your heart and soul with joy. Bring your loved ones and create unforgettable memories this holiday season!
URL:http://sonorandesertchorale.org/event/candlelight-christmas/
LOCATION:First United Methodist Church of Mesa\, 15 E 1st Ave\, Mesa\, AZ\, 85210\, United States
CATEGORIES:Members
ATTACH;FMTTYPE=image/jpeg:http://sonorandesertchorale.org/wp-content/uploads/2025/09/Candlelight-scaled.jpg
ORGANIZER;CN="Sonoran Desert Chorale":MAILTO:ticketsSDC@gmail.com
END:VEVENT
BEGIN:VEVENT
DTSTART;TZID=America/Phoenix:20251214T150000
DTEND;TZID=America/Phoenix:20251214T163000
DTSTAMP:20260421T101931
CREATED:20250831T144616Z
LAST-MODIFIED:20260303T020909Z
UID:3762-1765724400-1765729800@sonorandesertchorale.org
SUMMARY:Candlelight Christmas
DESCRIPTION:Join the Chorale for a heartwarming evening of holiday magic! Experience the beauty of timeless Christmas classics performed with the warmth of candlelight. Featuring the angelic sounds of John Rutter’s Candlelight Carol\, Angel’s Carol\, and Christmas Lullaby\, this concert will fill your heart and soul with joy. Bring your loved ones and create unforgettable memories this holiday season!
URL:http://sonorandesertchorale.org/event/candlelight-christmas-2/
LOCATION:Camelback Bible Church\, 3900 E. Stanford Dr\, Paradise Valley\, 85253\, United States
CATEGORIES:Members
ATTACH;FMTTYPE=image/jpeg:http://sonorandesertchorale.org/wp-content/uploads/2025/09/Candlelight-scaled.jpg
ORGANIZER;CN="Sonoran Desert Chorale":MAILTO:ticketsSDC@gmail.com
END:VEVENT
END:VCALENDAR